BEGIN:VCALENDAR
VERSION:2.0
PRODID:-//Shree Datta Padmanabh peeth - ECPv6.15.20//NONSGML v1.0//EN
CALSCALE:GREGORIAN
METHOD:PUBLISH
X-WR-CALNAME:Shree Datta Padmanabh peeth
X-ORIGINAL-URL:https://srigurudev.org
X-WR-CALDESC:Events for Shree Datta Padmanabh peeth
REFRESH-INTERVAL;VALUE=DURATION:PT1H
X-Robots-Tag:noindex
X-PUBLISHED-TTL:PT1H
BEGIN:VTIMEZONE
TZID:Asia/Kolkata
BEGIN:STANDARD
TZOFFSETFROM:+0530
TZOFFSETTO:+0530
TZNAME:IST
DTSTART:20180101T000000
END:STANDARD
END:VTIMEZONE
BEGIN:VTIMEZONE
TZID:UTC
BEGIN:STANDARD
TZOFFSETFROM:+0000
TZOFFSETTO:+0000
TZNAME:UTC
DTSTART:20170101T000000
END:STANDARD
END:VTIMEZONE
BEGIN:VTIMEZONE
TZID:Africa/Abidjan
BEGIN:STANDARD
TZOFFSETFROM:+0000
TZOFFSETTO:+0000
TZNAME:GMT
DTSTART:20170101T000000
END:STANDARD
END:VTIMEZONE
BEGIN:VEVENT
DTSTART;TZID=Asia/Kolkata:20200118T183000
DTEND;TZID=Asia/Kolkata:20200118T220000
DTSTAMP:20260420T060203
CREATED:20200302T042251Z
LAST-MODIFIED:20200302T042251Z
UID:857-1579372200-1579384800@srigurudev.org
SUMMARY:Narayani Namoustute
DESCRIPTION:
URL:https://srigurudev.org/event/narayani-namoustute/
LOCATION:Shree Bhagwati Sapteshwar Temple Ground\, Mandrem Goa
CATEGORIES:Past
ATTACH;FMTTYPE=image/jpeg:https://srigurudev.org/wp-content/uploads/2020/03/1-14.jpg
END:VEVENT
BEGIN:VEVENT
DTSTART;TZID=Asia/Kolkata:20191211T190000
DTEND;TZID=Asia/Kolkata:20191211T220000
DTSTAMP:20260420T060203
CREATED:20200302T041944Z
LAST-MODIFIED:20200302T041944Z
UID:854-1576090800-1576101600@srigurudev.org
SUMMARY:Datta Jayanti
DESCRIPTION:
URL:https://srigurudev.org/event/datta-jayanti/
LOCATION:Shree Kshetra Tapobhoomi\, Kundaim\, Ponda\, Goa\, 400315
CATEGORIES:Past
ATTACH;FMTTYPE=image/jpeg:https://srigurudev.org/wp-content/uploads/2020/03/1-13.jpg
END:VEVENT
BEGIN:VEVENT
DTSTART;TZID=Asia/Kolkata:20191124T100000
DTEND;TZID=Asia/Kolkata:20191124T130000
DTSTAMP:20260420T060203
CREATED:20200302T041603Z
LAST-MODIFIED:20200302T041603Z
UID:849-1574589600-1574600400@srigurudev.org
SUMMARY:Gayatri Mantra Updesh Sohala
DESCRIPTION:
URL:https://srigurudev.org/event/gayatri-mantra-updesh-sohala/
LOCATION:Community Hall\, Morle Colony\, Sattari Goa\, India
CATEGORIES:Past
ATTACH;FMTTYPE=image/jpeg:https://srigurudev.org/wp-content/uploads/2020/03/1-12.jpg
END:VEVENT
BEGIN:VEVENT
DTSTART;TZID=Asia/Kolkata:20191114T203000
DTEND;TZID=Asia/Kolkata:20191114T230000
DTSTAMP:20260420T060203
CREATED:20200302T035617Z
LAST-MODIFIED:20200302T035617Z
UID:846-1573763400-1573772400@srigurudev.org
SUMMARY:Yatra Naryastu Pujyante
DESCRIPTION:Thousands of Mahila Purohit from Goa to perform the Tulasi Vivah in the divine presence of International Spiritual Leader His Holiness Dharmabhushan Sadguru Brahmeshanandacharya Swamiji & Mahamandaleshwar Mahadev Swamiji\, Jai Ma Mission
URL:https://srigurudev.org/event/yatra-naryastu-pujyante/
LOCATION:Shree Kshetra Tapobhoomi\, Kundaim\, Ponda\, Goa\, 400315
CATEGORIES:Past
ATTACH;FMTTYPE=image/jpeg:https://srigurudev.org/wp-content/uploads/2020/03/1-11.jpg
END:VEVENT
BEGIN:VEVENT
DTSTART;TZID=Asia/Kolkata:20190824T100000
DTEND;TZID=Asia/Kolkata:20190824T130000
DTSTAMP:20260420T060203
CREATED:20200302T035206Z
LAST-MODIFIED:20200302T035206Z
UID:841-1566640800-1566651600@srigurudev.org
SUMMARY:Gopal Kala
DESCRIPTION:“Gopalkala” The festival that unites people\, Celebration that spreads happiness & Spirituality within that connects to the supreme power.
URL:https://srigurudev.org/event/gopal-kala/
LOCATION:Haturlim Math
CATEGORIES:Past
ATTACH;FMTTYPE=image/jpeg:https://srigurudev.org/wp-content/uploads/2020/03/1-10.jpg
END:VEVENT
BEGIN:VEVENT
DTSTART;TZID=Asia/Kolkata:20190718T083000
DTEND;TZID=Asia/Kolkata:20190718T220000
DTSTAMP:20260420T060203
CREATED:20200302T034359Z
LAST-MODIFIED:20200302T034359Z
UID:833-1563438600-1563487200@srigurudev.org
SUMMARY:Chaturmas Granth Parayan
DESCRIPTION:
URL:https://srigurudev.org/event/chaturmas-granth-parayan/
LOCATION:Shree Kshetra Tapobhoomi\, Kundaim\, Ponda\, Goa\, 400315
CATEGORIES:Past
ATTACH;FMTTYPE=image/jpeg:https://srigurudev.org/wp-content/uploads/2020/03/1-8.jpg
END:VEVENT
BEGIN:VEVENT
DTSTART;TZID=Asia/Kolkata:20190716T093000
DTEND;TZID=Asia/Kolkata:20190716T130000
DTSTAMP:20260420T060203
CREATED:20200302T034054Z
LAST-MODIFIED:20200302T034054Z
UID:830-1563269400-1563282000@srigurudev.org
SUMMARY:Guru Pournima
DESCRIPTION:
URL:https://srigurudev.org/event/guru-pournima/
LOCATION:Shree Kshetra Tapobhoomi\, Kundaim\, Ponda\, Goa\, 400315
CATEGORIES:Past
ATTACH;FMTTYPE=image/jpeg:https://srigurudev.org/wp-content/uploads/2020/03/1-7.jpg
END:VEVENT
BEGIN:VEVENT
DTSTART;TZID=Asia/Kolkata:20190428T180000
DTEND;TZID=Asia/Kolkata:20190428T200000
DTSTAMP:20260420T060203
CREATED:20200301T110106Z
LAST-MODIFIED:20200301T110106Z
UID:826-1556474400-1556481600@srigurudev.org
SUMMARY:Jai Goa
DESCRIPTION:
URL:https://srigurudev.org/event/jai-goa/
LOCATION:Saligao\, India
CATEGORIES:Past
ATTACH;FMTTYPE=image/jpeg:https://srigurudev.org/wp-content/uploads/2020/03/1-6.jpg
END:VEVENT
BEGIN:VEVENT
DTSTART;TZID=Asia/Kolkata:20190314T150000
DTEND;TZID=Asia/Kolkata:20190314T220000
DTSTAMP:20260420T060203
CREATED:20200301T102207Z
LAST-MODIFIED:20200301T102207Z
UID:814-1552575600-1552600800@srigurudev.org
SUMMARY:Gehe Gehe Sanskritam
DESCRIPTION:
URL:https://srigurudev.org/event/gehe-gehe-sanskritam/
LOCATION:Shree Kshetra Tapobhoomi\, Kundaim\, Ponda\, Goa\, 400315
CATEGORIES:Past
ATTACH;FMTTYPE=image/jpeg:https://srigurudev.org/wp-content/uploads/2020/03/1-4.jpg
END:VEVENT
BEGIN:VEVENT
DTSTART;TZID=Asia/Kolkata:20190224T180000
DTEND;TZID=Asia/Kolkata:20190224T200000
DTSTAMP:20260420T060203
CREATED:20200301T105341Z
LAST-MODIFIED:20200301T105341Z
UID:822-1551031200-1551038400@srigurudev.org
SUMMARY:Mere Watan Ke Logon
DESCRIPTION:A Call to one and all to come together in the Capital City of Goa – Panjim to pay tribute to the martyrs of Pulwama Attack \nShree Datta Padmanabh Peeth organizes “Ae Mere Vatan Ke Logon” – A patriotic event.
URL:https://srigurudev.org/event/mere-watan-ke-logon/
LOCATION:NGPDA Ground\, Mala\, Panjim-Goa\, Panjim\, India
CATEGORIES:Past
ATTACH;FMTTYPE=image/jpeg:https://srigurudev.org/wp-content/uploads/2020/03/1-5.jpg
END:VEVENT
BEGIN:VEVENT
DTSTART;TZID=Asia/Kolkata:20190217T160000
DTEND;TZID=Asia/Kolkata:20190217T200000
DTSTAMP:20260420T060203
CREATED:20200301T100722Z
LAST-MODIFIED:20200301T100722Z
UID:805-1550419200-1550433600@srigurudev.org
SUMMARY:Dharmo Rakshati Rakshitaha
DESCRIPTION:
URL:https://srigurudev.org/event/dharmo-rakshati-rakshitaha/
LOCATION:Kavlem\, Ponda-Goa
CATEGORIES:Past
ATTACH;FMTTYPE=image/jpeg:https://srigurudev.org/wp-content/uploads/2020/03/1-2.jpg
END:VEVENT
BEGIN:VEVENT
DTSTART;TZID=Asia/Kolkata:20190209T090000
DTEND;TZID=Asia/Kolkata:20190209T140000
DTSTAMP:20260420T060203
CREATED:20200301T101359Z
LAST-MODIFIED:20200301T101359Z
UID:809-1549702800-1549720800@srigurudev.org
SUMMARY:Hanumat Anushthan
DESCRIPTION:To all who wish to seek blessings of Lord Hanuman\, Shree Datta Padmanabh Peeth organizes “Hanumat Anushthan” with the divine blessings of H.H. Sadguru Brahmeshanandacharya Swamiji\, in the city Panjim on 9th Feb 2019 on the occasion of the grand event “DIVYA DEVASTHAN MAHAGAURAV & SADGURU ASHIRVACHAN SOHALA”.
URL:https://srigurudev.org/event/hanumat-anushthan/
LOCATION:Marutirai Sansthan\, Maruti Gad\, Mala\, Panjim-Goa\, Panjim\, India
CATEGORIES:Past
ATTACH;FMTTYPE=image/jpeg:https://srigurudev.org/wp-content/uploads/2020/03/1-3.jpg
END:VEVENT
BEGIN:VEVENT
DTSTART;TZID=Asia/Kolkata:20190201T163000
DTEND;TZID=Asia/Kolkata:20190303T183000
DTSTAMP:20260420T060203
CREATED:20200301T095907Z
LAST-MODIFIED:20200301T095907Z
UID:799-1549038600-1551637800@srigurudev.org
SUMMARY:Sadguru Trophy - Tennis Ball Cricket Tournament
DESCRIPTION:
URL:https://srigurudev.org/event/sadguru-trophy-tennis-ball-cricket-tournament/
LOCATION:Suresh Raina Ground\, Tuyem\, Pernem – Goa\, India
CATEGORIES:Past
ATTACH;FMTTYPE=image/jpeg:https://srigurudev.org/wp-content/uploads/2020/03/1-1.jpg
END:VEVENT
BEGIN:VEVENT
DTSTART;TZID=Asia/Kolkata:20190105T190000
DTEND;TZID=Asia/Kolkata:20190105T220000
DTSTAMP:20260420T060203
CREATED:20200301T094620Z
LAST-MODIFIED:20200301T094620Z
UID:790-1546714800-1546725600@srigurudev.org
SUMMARY:Sarve Bhavantu Sukhinaha
DESCRIPTION:
URL:https://srigurudev.org/event/sarve-bhavantu-sukhinaha/
LOCATION:Ravindra Bhavan\, Curchorem\, Curchorem\, 403706\, India
CATEGORIES:Past
ATTACH;FMTTYPE=image/jpeg:https://srigurudev.org/wp-content/uploads/2020/03/2.jpg
END:VEVENT
BEGIN:VEVENT
DTSTART;VALUE=DATE:20180224
DTEND;VALUE=DATE:20180225
DTSTAMP:20260420T060203
CREATED:20180925T095847Z
LAST-MODIFIED:20180925T095847Z
UID:197-1519430400-1519516799@srigurudev.org
SUMMARY:Brahmeshanand Swami’s birth anniversary celebration to begin in Dubai
DESCRIPTION:Festival of Unity for Peace & Announcement of Achiever’s Award 2018\, on the occasion \nTapobhumi: Festival of Unity for Peace and International of Achiever’s Award 2018 will be held at Dubai this year on the occasion of Brahmeshanand Swami’s birth anniversary on 23rd February. International Sadguru Foundation in association with Goa Tourism Cooperation and NRI Commission has organised this grand event Dubai\, which will kick start at 4.30 in the Dubai Consulate hall.\n\nThis Festivalhas been organised to spread awareness of brotherhood by bringing people from various countries together and on this occasion Indians as well as  Dubai residents will come together on the theme of\n_”Vasudeva Kutumbakam”_   informed secretary of International Sadguru Foundation Adv Brahmidevi. In this event various personalities who have achieved excellence in verities of field will be felicitated with the international achievers awards\, she added.\n\nProminent personalities like\,  Council General (India) Vipul\, Brigadier Hamdan Alsari – S.V.P. Government relations (Dubai)\, Feng Chang Wang – Chairman of Peace Culture Development (China)\, Prashant Manghat CEO of NMC Healthcare Dubai\, Surendra Singh Khandari – Chairman of All Dabobi Group\, HE. Nazer Khalifa Al Budar – Director of Dubai Medical District\, Mohammad Ayup Abbas – Al Nazra Dubai\, HE Shlaha Al Tahalak – S.V.P. Dubai Duty-free\, H.E. Esa Abdulla Al Gruhar – Chairman of Al Gruhar Centre (Dubai)\, Father Michele Cardozo – Dubai\, Cobasak Chutikul – secretary general of Asian Peace and Reconciliation (Thailand)\, Mohammad Khan –Khan Media City (UAE)\, Mahesh Shrinivasan – V.N.I President of Asia Facility\, Asif Ikbal president of I.E.T.O\, Rajesh Tarkar – Rajdeep Builders (Goa)\, Niraj Mohammad – Palchil Shiel Midland Group of Companies (Dubai)\, Mohammad Imran Ali\, – secretary Youth Chambers of Commerce (UAE)\, Evensio – Quadros Motors (Goa)\, Jitendra Agrawal – (India) will be present for this festival.\n\nPromotion of Goan Tourism and Culture will be given importance during this festival. More than 200 devotees from Goa have left to Dubai to be part of this festival.
URL:https://srigurudev.org/event/brahmeshanand-swamis-birth-anniversary-celebration-to-begin-in-dubai/
LOCATION:Dubai\, UAE\, United Arab Emirates
CATEGORIES:Past
ATTACH;FMTTYPE=image/jpeg:https://srigurudev.org/wp-content/uploads/2018/09/FestivalOfUnityForPeace.jpg
END:VEVENT
BEGIN:VEVENT
DTSTART;TZID=Africa/Abidjan:20180202T000000
DTEND;TZID=Africa/Abidjan:20180202T235959
DTSTAMP:20260420T060203
CREATED:20180925T093147Z
LAST-MODIFIED:20180925T093147Z
UID:191-1517529600-1517615999@srigurudev.org
SUMMARY:Word Yoga Festival at Miramar beach
DESCRIPTION:Woman Priest performed “Mahaayagya” \nThousands participated in Yoga Sadhana demonstration \nOn the occasion of World Yoga Festival In midst of scenic beauty of Miramar beach\, Woman priest will perform “Mahaayagy” and demonstration of Yoga Sadhana will be held on Saturday\, 3rd February at Miramar Beach\, Panaji. Program will start at 3 pm onwards and thousands of Yoga participants from entire world will take part in the Yoga Sadhana Demonstration.\n\nInternational Sadguru Foundation (India) and World Yoga Community (USA) in collaboration with Goa Tourism Development Corporation has organised the world Yoga Festival in Goa. To present the true nature of Goan culture in front of world and to make people realise the importance of Yoga\, this festival is being organised at Goa.\n\nSo International Sadguru foundation (India) and World Yoga Community (USA) urge everyone to join in large number to experience this historical event at Miramar and take chance of getting guidance from Yog Sadhan performed by Acharya.\n\nThis program will be attended by Union Minister of State for AYUSH (Independent Charge) Shripad Naik\, Chief Minister Manohar Parrikar\,  Housing Board Minister Jayesh Salgaonkar\, Panaji Mayor Surendra Furtado\,  president of World Yoga Community Dileepkumar Thankappan\,  Dr. Shivanand Saraswati\, Guru Anand Vintarang (USA)\, Yogi Ashutoshji (Delhi)l\, Dr. Gopalji president of Global Yoga Alliance \, Swami Yatidharmanandji (Odisha)\, Dr.Gopalji\, Mohammad Imran (Dubai)\, Niranjan Murti (Banglore)\, Adv Brahmi Deviji –secretary of International Sadguru foundation (India).\n\nGoa island of Parshurama and people here in live with peace and harmony.  Goa is famous in entire world as tourist destination and “Atithi Devo Bhava” is part of Goas culture. It’s our duty to take responsibility of their safety and Hospitality of every person visiting this place.
URL:https://srigurudev.org/event/word-yoga-festival-at-miramar-beach/
LOCATION:Miramar Beach\, Goa\, Panjim\, Goa\, India
CATEGORIES:Past
ATTACH;FMTTYPE=image/jpeg:https://srigurudev.org/wp-content/uploads/2018/09/yoga-miramar.jpg
END:VEVENT
END:VCALENDAR